BEGIN:VCALENDAR
VERSION:2.0
PRODID:-//Kramfors Jaktskytteklubb - ECPv6.15.20//NONSGML v1.0//EN
CALSCALE:GREGORIAN
METHOD:PUBLISH
X-ORIGINAL-URL:https://www.kramforsjaktskytteklubb.org
X-WR-CALDESC:Händelser för Kramfors Jaktskytteklubb
REFRESH-INTERVAL;VALUE=DURATION:PT1H
X-Robots-Tag:noindex
X-PUBLISHED-TTL:PT1H
BEGIN:VTIMEZONE
TZID:Europe/Stockholm
BEGIN:DAYLIGHT
TZOFFSETFROM:+0100
TZOFFSETTO:+0200
TZNAME:CEST
DTSTART:20220327T010000
END:DAYLIGHT
BEGIN:STANDARD
TZOFFSETFROM:+0200
TZOFFSETTO:+0100
TZNAME:CET
DTSTART:20221030T010000
END:STANDARD
BEGIN:DAYLIGHT
TZOFFSETFROM:+0100
TZOFFSETTO:+0200
TZNAME:CEST
DTSTART:20230326T010000
END:DAYLIGHT
BEGIN:STANDARD
TZOFFSETFROM:+0200
TZOFFSETTO:+0100
TZNAME:CET
DTSTART:20231029T010000
END:STANDARD
BEGIN:DAYLIGHT
TZOFFSETFROM:+0100
TZOFFSETTO:+0200
TZNAME:CEST
DTSTART:20240331T010000
END:DAYLIGHT
BEGIN:STANDARD
TZOFFSETFROM:+0200
TZOFFSETTO:+0100
TZNAME:CET
DTSTART:20241027T010000
END:STANDARD
BEGIN:DAYLIGHT
TZOFFSETFROM:+0100
TZOFFSETTO:+0200
TZNAME:CEST
DTSTART:20250330T010000
END:DAYLIGHT
BEGIN:STANDARD
TZOFFSETFROM:+0200
TZOFFSETTO:+0100
TZNAME:CET
DTSTART:20251026T010000
END:STANDARD
END:VTIMEZONE
BEGIN:VEVENT
DTSTART;TZID=Europe/Stockholm:20230801T180000
DTEND;TZID=Europe/Stockholm:20230801T200000
DTSTAMP:20260423T055804
CREATED:20230502T084819Z
LAST-MODIFIED:20230502T084834Z
UID:10000307-1690912800-1690920000@www.kramforsjaktskytteklubb.org
SUMMARY:Skjutkväll
DESCRIPTION:Alla banor öppna
URL:https://www.kramforsjaktskytteklubb.org/event/skjutkvall-3/2023-08-01/
CATEGORIES:Skjutkväll
END:VEVENT
BEGIN:VEVENT
DTSTART;TZID=Europe/Stockholm:20230802T180000
DTEND;TZID=Europe/Stockholm:20230802T200000
DTSTAMP:20260423T055804
CREATED:20230325T125223Z
LAST-MODIFIED:20230325T125223Z
UID:10000299-1690999200-1691006400@www.kramforsjaktskytteklubb.org
SUMMARY:Björskytte
DESCRIPTION:
URL:https://www.kramforsjaktskytteklubb.org/event/bjorskytte/2023-08-02/
CATEGORIES:Björnskytte
END:VEVENT
BEGIN:VEVENT
DTSTART;TZID=Europe/Stockholm:20230803T180000
DTEND;TZID=Europe/Stockholm:20230803T200000
DTSTAMP:20260423T055804
CREATED:20230502T085133Z
LAST-MODIFIED:20230502T085133Z
UID:10000364-1691085600-1691092800@www.kramforsjaktskytteklubb.org
SUMMARY:Skjutkväll
DESCRIPTION:
URL:https://www.kramforsjaktskytteklubb.org/event/skjutkvall-4/2023-08-03/
CATEGORIES:Skjutkväll
END:VEVENT
BEGIN:VEVENT
DTSTART;TZID=Europe/Stockholm:20230805T090000
DTEND;TZID=Europe/Stockholm:20230805T140000
DTSTAMP:20260423T055804
CREATED:20230508T130840Z
LAST-MODIFIED:20230702T175947Z
UID:10000375-1691226000-1691244000@www.kramforsjaktskytteklubb.org
SUMMARY:Praktiskt prov jägarexamen
DESCRIPTION:
URL:https://www.kramforsjaktskytteklubb.org/event/praktiskt-prov-jagarexamen/
CATEGORIES:Jägarexamen
END:VEVENT
BEGIN:VEVENT
DTSTART;TZID=Europe/Stockholm:20230806T080000
DTEND;TZID=Europe/Stockholm:20230806T170000
DTSTAMP:20260423T055804
CREATED:20230312T162602Z
LAST-MODIFIED:20230312T162602Z
UID:10000104-1691308800-1691341200@www.kramforsjaktskytteklubb.org
SUMMARY:Gudmundrå 1
DESCRIPTION:
URL:https://www.kramforsjaktskytteklubb.org/event/gudmundra-1-2/
CATEGORIES:Jaktlag
END:VEVENT
BEGIN:VEVENT
DTSTART;TZID=Europe/Stockholm:20230808T180000
DTEND;TZID=Europe/Stockholm:20230808T200000
DTSTAMP:20260423T055804
CREATED:20230502T084819Z
LAST-MODIFIED:20230502T084834Z
UID:10000308-1691517600-1691524800@www.kramforsjaktskytteklubb.org
SUMMARY:Skjutkväll
DESCRIPTION:Alla banor öppna
URL:https://www.kramforsjaktskytteklubb.org/event/skjutkvall-3/2023-08-08/
CATEGORIES:Skjutkväll
END:VEVENT
BEGIN:VEVENT
DTSTART;TZID=Europe/Stockholm:20230809T180000
DTEND;TZID=Europe/Stockholm:20230809T200000
DTSTAMP:20260423T055804
CREATED:20230325T125223Z
LAST-MODIFIED:20230325T125223Z
UID:10000300-1691604000-1691611200@www.kramforsjaktskytteklubb.org
SUMMARY:Björskytte
DESCRIPTION:
URL:https://www.kramforsjaktskytteklubb.org/event/bjorskytte/2023-08-09/
CATEGORIES:Björnskytte
END:VEVENT
BEGIN:VEVENT
DTSTART;TZID=Europe/Stockholm:20230810T180000
DTEND;TZID=Europe/Stockholm:20230810T200000
DTSTAMP:20260423T055804
CREATED:20230502T085133Z
LAST-MODIFIED:20230502T085133Z
UID:10000365-1691690400-1691697600@www.kramforsjaktskytteklubb.org
SUMMARY:Skjutkväll
DESCRIPTION:
URL:https://www.kramforsjaktskytteklubb.org/event/skjutkvall-4/2023-08-10/
CATEGORIES:Skjutkväll
END:VEVENT
BEGIN:VEVENT
DTSTART;TZID=Europe/Stockholm:20230811T150000
DTEND;TZID=Europe/Stockholm:20230811T200000
DTSTAMP:20260423T055804
CREATED:20230803T095921Z
LAST-MODIFIED:20230803T100133Z
UID:10000387-1691766000-1691784000@www.kramforsjaktskytteklubb.org
SUMMARY:Kristian Andersson
DESCRIPTION:
URL:https://www.kramforsjaktskytteklubb.org/event/kristian-andersson/
CATEGORIES:Jaktlag
END:VEVENT
BEGIN:VEVENT
DTSTART;TZID=Europe/Stockholm:20230812T080000
DTEND;TZID=Europe/Stockholm:20230812T170000
DTSTAMP:20260423T055805
CREATED:20230603T180629Z
LAST-MODIFIED:20230603T180629Z
UID:10000376-1691827200-1691859600@www.kramforsjaktskytteklubb.org
SUMMARY:Stefan Wassberg
DESCRIPTION:
URL:https://www.kramforsjaktskytteklubb.org/event/stefan-wassberg/
CATEGORIES:Jaktlag
END:VEVENT
BEGIN:VEVENT
DTSTART;TZID=Europe/Stockholm:20230813T090000
DTEND;TZID=Europe/Stockholm:20230813T170000
DTSTAMP:20260423T055805
CREATED:20230224T141843Z
LAST-MODIFIED:20230224T141843Z
UID:10000109-1691917200-1691946000@www.kramforsjaktskytteklubb.org
SUMMARY:Gudmundrå 2
DESCRIPTION:
URL:https://www.kramforsjaktskytteklubb.org/event/gudmundra-2-2/
CATEGORIES:Jaktlag
END:VEVENT
BEGIN:VEVENT
DTSTART;TZID=Europe/Stockholm:20230815T180000
DTEND;TZID=Europe/Stockholm:20230815T200000
DTSTAMP:20260423T055805
CREATED:20230502T084819Z
LAST-MODIFIED:20230502T084834Z
UID:10000309-1692122400-1692129600@www.kramforsjaktskytteklubb.org
SUMMARY:Skjutkväll
DESCRIPTION:Alla banor öppna
URL:https://www.kramforsjaktskytteklubb.org/event/skjutkvall-3/2023-08-15/
CATEGORIES:Skjutkväll
END:VEVENT
BEGIN:VEVENT
DTSTART;TZID=Europe/Stockholm:20230816T180000
DTEND;TZID=Europe/Stockholm:20230816T200000
DTSTAMP:20260423T055805
CREATED:20230325T125223Z
LAST-MODIFIED:20230325T125223Z
UID:10000301-1692208800-1692216000@www.kramforsjaktskytteklubb.org
SUMMARY:Björskytte
DESCRIPTION:
URL:https://www.kramforsjaktskytteklubb.org/event/bjorskytte/2023-08-16/
CATEGORIES:Björnskytte
END:VEVENT
BEGIN:VEVENT
DTSTART;TZID=Europe/Stockholm:20230817T180000
DTEND;TZID=Europe/Stockholm:20230817T200000
DTSTAMP:20260423T055805
CREATED:20230502T085133Z
LAST-MODIFIED:20230502T085133Z
UID:10000366-1692295200-1692302400@www.kramforsjaktskytteklubb.org
SUMMARY:Skjutkväll
DESCRIPTION:
URL:https://www.kramforsjaktskytteklubb.org/event/skjutkvall-4/2023-08-17/
CATEGORIES:Skjutkväll
END:VEVENT
BEGIN:VEVENT
DTSTART;TZID=Europe/Stockholm:20230819T080000
DTEND;TZID=Europe/Stockholm:20230819T170000
DTSTAMP:20260423T055805
CREATED:20230625T105628Z
LAST-MODIFIED:20230625T105628Z
UID:10000383-1692432000-1692464400@www.kramforsjaktskytteklubb.org
SUMMARY:Storvattnet
DESCRIPTION:
URL:https://www.kramforsjaktskytteklubb.org/event/storvattnet-2/
CATEGORIES:Jaktlag
END:VEVENT
BEGIN:VEVENT
DTSTART;TZID=Europe/Stockholm:20230820T080000
DTEND;TZID=Europe/Stockholm:20230820T170000
DTSTAMP:20260423T055805
CREATED:20230801T103541Z
LAST-MODIFIED:20230801T103541Z
UID:10000385-1692518400-1692550800@www.kramforsjaktskytteklubb.org
SUMMARY:Gudmudrå 3
DESCRIPTION:
URL:https://www.kramforsjaktskytteklubb.org/event/gudmudra-3/
CATEGORIES:Jaktlag
END:VEVENT
BEGIN:VEVENT
DTSTART;TZID=Europe/Stockholm:20230822T180000
DTEND;TZID=Europe/Stockholm:20230822T200000
DTSTAMP:20260423T055805
CREATED:20230502T084819Z
LAST-MODIFIED:20230502T084834Z
UID:10000310-1692727200-1692734400@www.kramforsjaktskytteklubb.org
SUMMARY:Skjutkväll
DESCRIPTION:Alla banor öppna
URL:https://www.kramforsjaktskytteklubb.org/event/skjutkvall-3/2023-08-22/
CATEGORIES:Skjutkväll
END:VEVENT
BEGIN:VEVENT
DTSTART;TZID=Europe/Stockholm:20230824T180000
DTEND;TZID=Europe/Stockholm:20230824T200000
DTSTAMP:20260423T055805
CREATED:20230502T085133Z
LAST-MODIFIED:20230502T085133Z
UID:10000367-1692900000-1692907200@www.kramforsjaktskytteklubb.org
SUMMARY:Skjutkväll
DESCRIPTION:
URL:https://www.kramforsjaktskytteklubb.org/event/skjutkvall-4/2023-08-24/
CATEGORIES:Skjutkväll
END:VEVENT
BEGIN:VEVENT
DTSTART;TZID=Europe/Stockholm:20230826T080000
DTEND;TZID=Europe/Stockholm:20230826T170000
DTSTAMP:20260423T055805
CREATED:20230801T103809Z
LAST-MODIFIED:20230801T103809Z
UID:10000386-1693036800-1693069200@www.kramforsjaktskytteklubb.org
SUMMARY:Mörtsjö jaktlag
DESCRIPTION:
URL:https://www.kramforsjaktskytteklubb.org/event/mortsjo-jaktlag/
CATEGORIES:Jaktlag
END:VEVENT
BEGIN:VEVENT
DTSTART;TZID=Europe/Stockholm:20230829T180000
DTEND;TZID=Europe/Stockholm:20230829T200000
DTSTAMP:20260423T055805
CREATED:20230502T084819Z
LAST-MODIFIED:20230502T084834Z
UID:10000311-1693332000-1693339200@www.kramforsjaktskytteklubb.org
SUMMARY:Skjutkväll
DESCRIPTION:Alla banor öppna
URL:https://www.kramforsjaktskytteklubb.org/event/skjutkvall-3/2023-08-29/
CATEGORIES:Skjutkväll
END:VEVENT
BEGIN:VEVENT
DTSTART;TZID=Europe/Stockholm:20230831T180000
DTEND;TZID=Europe/Stockholm:20230831T200000
DTSTAMP:20260423T055805
CREATED:20230502T085133Z
LAST-MODIFIED:20230502T085133Z
UID:10000368-1693504800-1693512000@www.kramforsjaktskytteklubb.org
SUMMARY:Skjutkväll
DESCRIPTION:
URL:https://www.kramforsjaktskytteklubb.org/event/skjutkvall-4/2023-08-31/
CATEGORIES:Skjutkväll
END:VEVENT
BEGIN:VEVENT
DTSTART;TZID=Europe/Stockholm:20230902T090000
DTEND;TZID=Europe/Stockholm:20230902T170000
DTSTAMP:20260423T055805
CREATED:20230224T141916Z
LAST-MODIFIED:20230224T141916Z
UID:10000108-1693645200-1693674000@www.kramforsjaktskytteklubb.org
SUMMARY:Gudmundrå 2
DESCRIPTION:
URL:https://www.kramforsjaktskytteklubb.org/event/gudmundra-2-3/
CATEGORIES:Jaktlag
END:VEVENT
BEGIN:VEVENT
DTSTART;TZID=Europe/Stockholm:20240512T170000
DTEND;TZID=Europe/Stockholm:20240512T170000
DTSTAMP:20260423T055805
CREATED:20240430T065745Z
LAST-MODIFIED:20240430T065745Z
UID:10000453-1715533200-1715533200@www.kramforsjaktskytteklubb.org
SUMMARY:Årsmöte KL17:00 Välkommen!
DESCRIPTION:
URL:https://www.kramforsjaktskytteklubb.org/event/arsmote-kl1700-valkommen/
CATEGORIES:Möte klubbstugan
END:VEVENT
BEGIN:VEVENT
DTSTART;TZID=Europe/Stockholm:20240515T170000
DTEND;TZID=Europe/Stockholm:20240515T170000
DTSTAMP:20260423T055805
CREATED:20240509T135549Z
LAST-MODIFIED:20240509T135549Z
UID:10000514-1715792400-1715792400@www.kramforsjaktskytteklubb.org
SUMMARY:Arbetskväll
DESCRIPTION:
URL:https://www.kramforsjaktskytteklubb.org/event/arbetskvall-2/
CATEGORIES:fixarkvall
END:VEVENT
BEGIN:VEVENT
DTSTART;TZID=Europe/Stockholm:20240522T170000
DTEND;TZID=Europe/Stockholm:20240522T200000
DTSTAMP:20260423T055805
CREATED:20240509T135623Z
LAST-MODIFIED:20240509T135623Z
UID:10000515-1716397200-1716408000@www.kramforsjaktskytteklubb.org
SUMMARY:Arbetskväll
DESCRIPTION:
URL:https://www.kramforsjaktskytteklubb.org/event/arbetskvall-3/
CATEGORIES:fixarkvall
END:VEVENT
BEGIN:VEVENT
DTSTART;TZID=Europe/Stockholm:20240529T170000
DTEND;TZID=Europe/Stockholm:20240529T200000
DTSTAMP:20260423T055805
CREATED:20240509T135656Z
LAST-MODIFIED:20240509T135656Z
UID:10000516-1717002000-1717012800@www.kramforsjaktskytteklubb.org
SUMMARY:Arbetskväll
DESCRIPTION:
URL:https://www.kramforsjaktskytteklubb.org/event/arbetskvall-4/
CATEGORIES:fixarkvall
END:VEVENT
BEGIN:VEVENT
DTSTART;TZID=Europe/Stockholm:20240601T080000
DTEND;TZID=Europe/Stockholm:20240601T170000
DTSTAMP:20260423T055805
CREATED:20240404T194034Z
LAST-MODIFIED:20240404T194034Z
UID:10000392-1717228800-1717261200@www.kramforsjaktskytteklubb.org
SUMMARY:Jägarskolan
DESCRIPTION:
URL:https://www.kramforsjaktskytteklubb.org/event/jagarskolan/
CATEGORIES:Jägarskolan
END:VEVENT
BEGIN:VEVENT
DTSTART;TZID=Europe/Stockholm:20240602T080000
DTEND;TZID=Europe/Stockholm:20240602T170000
DTSTAMP:20260423T055805
CREATED:20240404T194107Z
LAST-MODIFIED:20240404T194107Z
UID:10000393-1717315200-1717347600@www.kramforsjaktskytteklubb.org
SUMMARY:Jägarskolan
DESCRIPTION:
URL:https://www.kramforsjaktskytteklubb.org/event/jagarskolan-2/
CATEGORIES:Jägarskolan
END:VEVENT
BEGIN:VEVENT
DTSTART;TZID=Europe/Stockholm:20240604T180000
DTEND;TZID=Europe/Stockholm:20240604T200000
DTSTAMP:20260423T055805
CREATED:20240512T170748Z
LAST-MODIFIED:20240613T114924Z
UID:10000517-1717524000-1717531200@www.kramforsjaktskytteklubb.org
SUMMARY:Skjutkväll
DESCRIPTION:Alla banor öppna 18:00 – 20:00
URL:https://www.kramforsjaktskytteklubb.org/event/skjutkvall-6/2024-06-04/
CATEGORIES:Skjutkväll
END:VEVENT
BEGIN:VEVENT
DTSTART;VALUE=DATE:20240606
DTEND;VALUE=DATE:20240607
DTSTAMP:20260423T055805
CREATED:20240601T153605Z
LAST-MODIFIED:20240601T153605Z
UID:10000543-1717632000-1717718399@www.kramforsjaktskytteklubb.org
SUMMARY:Skjutförbud
DESCRIPTION:All form av skytte förbjudet under denna dag.
URL:https://www.kramforsjaktskytteklubb.org/event/skjutforbud-2/
CATEGORIES:Skjutförbud
END:VEVENT
END:VCALENDAR