BEGIN:VCALENDAR
VERSION:2.0
PRODID:-//Kramfors Jaktskytteklubb - ECPv6.15.20//NONSGML v1.0//EN
CALSCALE:GREGORIAN
METHOD:PUBLISH
X-ORIGINAL-URL:https://www.kramforsjaktskytteklubb.org
X-WR-CALDESC:Händelser för Kramfors Jaktskytteklubb
REFRESH-INTERVAL;VALUE=DURATION:PT1H
X-Robots-Tag:noindex
X-PUBLISHED-TTL:PT1H
BEGIN:VTIMEZONE
TZID:Europe/Stockholm
BEGIN:DAYLIGHT
TZOFFSETFROM:+0100
TZOFFSETTO:+0200
TZNAME:CEST
DTSTART:20230326T010000
END:DAYLIGHT
BEGIN:STANDARD
TZOFFSETFROM:+0200
TZOFFSETTO:+0100
TZNAME:CET
DTSTART:20231029T010000
END:STANDARD
BEGIN:DAYLIGHT
TZOFFSETFROM:+0100
TZOFFSETTO:+0200
TZNAME:CEST
DTSTART:20240331T010000
END:DAYLIGHT
BEGIN:STANDARD
TZOFFSETFROM:+0200
TZOFFSETTO:+0100
TZNAME:CET
DTSTART:20241027T010000
END:STANDARD
BEGIN:DAYLIGHT
TZOFFSETFROM:+0100
TZOFFSETTO:+0200
TZNAME:CEST
DTSTART:20250330T010000
END:DAYLIGHT
BEGIN:STANDARD
TZOFFSETFROM:+0200
TZOFFSETTO:+0100
TZNAME:CET
DTSTART:20251026T010000
END:STANDARD
END:VTIMEZONE
BEGIN:VEVENT
DTSTART;TZID=Europe/Stockholm:20240801T180000
DTEND;TZID=Europe/Stockholm:20240801T200000
DTSTAMP:20260423T133744
CREATED:20240512T170958Z
LAST-MODIFIED:20240512T170958Z
UID:10000526-1722535200-1722542400@www.kramforsjaktskytteklubb.org
SUMMARY:Skjutkväll
DESCRIPTION:Alla banor öppna 18:00 – 20:00
URL:https://www.kramforsjaktskytteklubb.org/event/skjutkvall-7/2024-08-01/
CATEGORIES:Skjutkväll
END:VEVENT
BEGIN:VEVENT
DTSTART;TZID=Europe/Stockholm:20240806T180000
DTEND;TZID=Europe/Stockholm:20240806T200000
DTSTAMP:20260423T133744
CREATED:20240512T170958Z
LAST-MODIFIED:20240512T170958Z
UID:10000527-1722967200-1722974400@www.kramforsjaktskytteklubb.org
SUMMARY:Skjutkväll
DESCRIPTION:Alla banor öppna 18:00 – 20:00
URL:https://www.kramforsjaktskytteklubb.org/event/skjutkvall-7/2024-08-06/
CATEGORIES:Skjutkväll
END:VEVENT
BEGIN:VEVENT
DTSTART;TZID=Europe/Stockholm:20240808T180000
DTEND;TZID=Europe/Stockholm:20240808T200000
DTSTAMP:20260423T133744
CREATED:20240512T170958Z
LAST-MODIFIED:20240512T170958Z
UID:10000528-1723140000-1723147200@www.kramforsjaktskytteklubb.org
SUMMARY:Skjutkväll
DESCRIPTION:Alla banor öppna 18:00 – 20:00
URL:https://www.kramforsjaktskytteklubb.org/event/skjutkvall-7/2024-08-08/
CATEGORIES:Skjutkväll
END:VEVENT
BEGIN:VEVENT
DTSTART;TZID=Europe/Stockholm:20240813T180000
DTEND;TZID=Europe/Stockholm:20240813T200000
DTSTAMP:20260423T133744
CREATED:20240512T170958Z
LAST-MODIFIED:20240512T170958Z
UID:10000529-1723572000-1723579200@www.kramforsjaktskytteklubb.org
SUMMARY:Skjutkväll
DESCRIPTION:Alla banor öppna 18:00 – 20:00
URL:https://www.kramforsjaktskytteklubb.org/event/skjutkvall-7/2024-08-13/
CATEGORIES:Skjutkväll
END:VEVENT
BEGIN:VEVENT
DTSTART;TZID=Europe/Stockholm:20240815T180000
DTEND;TZID=Europe/Stockholm:20240815T200000
DTSTAMP:20260423T133744
CREATED:20240512T170958Z
LAST-MODIFIED:20240512T170958Z
UID:10000530-1723744800-1723752000@www.kramforsjaktskytteklubb.org
SUMMARY:Skjutkväll
DESCRIPTION:Alla banor öppna 18:00 – 20:00
URL:https://www.kramforsjaktskytteklubb.org/event/skjutkvall-7/2024-08-15/
CATEGORIES:Skjutkväll
END:VEVENT
BEGIN:VEVENT
DTSTART;TZID=Europe/Stockholm:20240820T180000
DTEND;TZID=Europe/Stockholm:20240820T200000
DTSTAMP:20260423T133744
CREATED:20240512T170958Z
LAST-MODIFIED:20240512T170958Z
UID:10000531-1724176800-1724184000@www.kramforsjaktskytteklubb.org
SUMMARY:Skjutkväll
DESCRIPTION:Alla banor öppna 18:00 – 20:00
URL:https://www.kramforsjaktskytteklubb.org/event/skjutkvall-7/2024-08-20/
CATEGORIES:Skjutkväll
END:VEVENT
BEGIN:VEVENT
DTSTART;TZID=Europe/Stockholm:20240822T180000
DTEND;TZID=Europe/Stockholm:20240822T200000
DTSTAMP:20260423T133744
CREATED:20240512T170958Z
LAST-MODIFIED:20240512T170958Z
UID:10000532-1724349600-1724356800@www.kramforsjaktskytteklubb.org
SUMMARY:Skjutkväll
DESCRIPTION:Alla banor öppna 18:00 – 20:00
URL:https://www.kramforsjaktskytteklubb.org/event/skjutkvall-7/2024-08-22/
CATEGORIES:Skjutkväll
END:VEVENT
BEGIN:VEVENT
DTSTART;TZID=Europe/Stockholm:20240827T180000
DTEND;TZID=Europe/Stockholm:20240827T200000
DTSTAMP:20260423T133744
CREATED:20240512T170958Z
LAST-MODIFIED:20240512T170958Z
UID:10000533-1724781600-1724788800@www.kramforsjaktskytteklubb.org
SUMMARY:Skjutkväll
DESCRIPTION:Alla banor öppna 18:00 – 20:00
URL:https://www.kramforsjaktskytteklubb.org/event/skjutkvall-7/2024-08-27/
CATEGORIES:Skjutkväll
END:VEVENT
BEGIN:VEVENT
DTSTART;TZID=Europe/Stockholm:20240829T180000
DTEND;TZID=Europe/Stockholm:20240829T200000
DTSTAMP:20260423T133744
CREATED:20240512T170958Z
LAST-MODIFIED:20240512T170958Z
UID:10000534-1724954400-1724961600@www.kramforsjaktskytteklubb.org
SUMMARY:Skjutkväll
DESCRIPTION:Alla banor öppna 18:00 – 20:00
URL:https://www.kramforsjaktskytteklubb.org/event/skjutkvall-7/2024-08-29/
CATEGORIES:Skjutkväll
END:VEVENT
END:VCALENDAR