BEGIN:VCALENDAR
VERSION:2.0
PRODID:-//Kramfors Jaktskytteklubb - ECPv6.15.20//NONSGML v1.0//EN
CALSCALE:GREGORIAN
METHOD:PUBLISH
X-ORIGINAL-URL:https://www.kramforsjaktskytteklubb.org
X-WR-CALDESC:Händelser för Kramfors Jaktskytteklubb
REFRESH-INTERVAL;VALUE=DURATION:PT1H
X-Robots-Tag:noindex
X-PUBLISHED-TTL:PT1H
BEGIN:VTIMEZONE
TZID:Europe/Stockholm
BEGIN:DAYLIGHT
TZOFFSETFROM:+0100
TZOFFSETTO:+0200
TZNAME:CEST
DTSTART:20220327T010000
END:DAYLIGHT
BEGIN:STANDARD
TZOFFSETFROM:+0200
TZOFFSETTO:+0100
TZNAME:CET
DTSTART:20221030T010000
END:STANDARD
BEGIN:DAYLIGHT
TZOFFSETFROM:+0100
TZOFFSETTO:+0200
TZNAME:CEST
DTSTART:20230326T010000
END:DAYLIGHT
BEGIN:STANDARD
TZOFFSETFROM:+0200
TZOFFSETTO:+0100
TZNAME:CET
DTSTART:20231029T010000
END:STANDARD
BEGIN:DAYLIGHT
TZOFFSETFROM:+0100
TZOFFSETTO:+0200
TZNAME:CEST
DTSTART:20240331T010000
END:DAYLIGHT
BEGIN:STANDARD
TZOFFSETFROM:+0200
TZOFFSETTO:+0100
TZNAME:CET
DTSTART:20241027T010000
END:STANDARD
END:VTIMEZONE
BEGIN:VEVENT
DTSTART;TZID=Europe/Stockholm:20230601T180000
DTEND;TZID=Europe/Stockholm:20230601T200000
DTSTAMP:20260424T071058
CREATED:20230325T124240Z
LAST-MODIFIED:20230614T204927Z
UID:10000186-1685642400-1685649600@www.kramforsjaktskytteklubb.org
SUMMARY:Skjutkväll
DESCRIPTION:Älgbanan öppen
URL:https://www.kramforsjaktskytteklubb.org/event/skjutkvall-2/2023-06-01/
CATEGORIES:Skjutkväll
END:VEVENT
BEGIN:VEVENT
DTSTART;TZID=Europe/Stockholm:20230606T180000
DTEND;TZID=Europe/Stockholm:20230606T180000
DTSTAMP:20260424T071058
CREATED:20230224T141300Z
LAST-MODIFIED:20230224T141300Z
UID:10000111-1686074400-1686074400@www.kramforsjaktskytteklubb.org
SUMMARY:Skjutkväll
DESCRIPTION:Alla banor öppna för alla. \nVälkommen !
URL:https://www.kramforsjaktskytteklubb.org/event/skjutkvall/2023-06-06/
CATEGORIES:Skjutkväll
END:VEVENT
BEGIN:VEVENT
DTSTART;TZID=Europe/Stockholm:20230608T180000
DTEND;TZID=Europe/Stockholm:20230608T200000
DTSTAMP:20260424T071058
CREATED:20230325T124240Z
LAST-MODIFIED:20230614T204927Z
UID:10000187-1686247200-1686254400@www.kramforsjaktskytteklubb.org
SUMMARY:Skjutkväll
DESCRIPTION:Älgbanan öppen
URL:https://www.kramforsjaktskytteklubb.org/event/skjutkvall-2/2023-06-08/
CATEGORIES:Skjutkväll
END:VEVENT
BEGIN:VEVENT
DTSTART;TZID=Europe/Stockholm:20230613T180000
DTEND;TZID=Europe/Stockholm:20230613T180000
DTSTAMP:20260424T071058
CREATED:20230224T141300Z
LAST-MODIFIED:20230224T141300Z
UID:10000112-1686679200-1686679200@www.kramforsjaktskytteklubb.org
SUMMARY:Skjutkväll
DESCRIPTION:Alla banor öppna för alla. \nVälkommen !
URL:https://www.kramforsjaktskytteklubb.org/event/skjutkvall/2023-06-13/
CATEGORIES:Skjutkväll
END:VEVENT
BEGIN:VEVENT
DTSTART;TZID=Europe/Stockholm:20230615T180000
DTEND;TZID=Europe/Stockholm:20230615T200000
DTSTAMP:20260424T071058
CREATED:20230325T124240Z
LAST-MODIFIED:20230614T204927Z
UID:10000188-1686852000-1686859200@www.kramforsjaktskytteklubb.org
SUMMARY:Skjutkväll
DESCRIPTION:Älgbanan öppen
URL:https://www.kramforsjaktskytteklubb.org/event/skjutkvall-2/2023-06-15/
CATEGORIES:Skjutkväll
END:VEVENT
BEGIN:VEVENT
DTSTART;TZID=Europe/Stockholm:20230620T180000
DTEND;TZID=Europe/Stockholm:20230620T180000
DTSTAMP:20260424T071058
CREATED:20230224T141300Z
LAST-MODIFIED:20230224T141300Z
UID:10000113-1687284000-1687284000@www.kramforsjaktskytteklubb.org
SUMMARY:Skjutkväll
DESCRIPTION:Alla banor öppna för alla. \nVälkommen !
URL:https://www.kramforsjaktskytteklubb.org/event/skjutkvall/2023-06-20/
CATEGORIES:Skjutkväll
END:VEVENT
BEGIN:VEVENT
DTSTART;TZID=Europe/Stockholm:20230627T180000
DTEND;TZID=Europe/Stockholm:20230627T180000
DTSTAMP:20260424T071058
CREATED:20230224T141300Z
LAST-MODIFIED:20230224T141300Z
UID:10000114-1687888800-1687888800@www.kramforsjaktskytteklubb.org
SUMMARY:Skjutkväll
DESCRIPTION:Alla banor öppna för alla. \nVälkommen !
URL:https://www.kramforsjaktskytteklubb.org/event/skjutkvall/2023-06-27/
CATEGORIES:Skjutkväll
END:VEVENT
BEGIN:VEVENT
DTSTART;TZID=Europe/Stockholm:20230629T180000
DTEND;TZID=Europe/Stockholm:20230629T200000
DTSTAMP:20260424T071058
CREATED:20230614T205040Z
LAST-MODIFIED:20230614T205040Z
UID:10000381-1688061600-1688068800@www.kramforsjaktskytteklubb.org
SUMMARY:Skjutkväll
DESCRIPTION:
URL:https://www.kramforsjaktskytteklubb.org/event/skjutkvall-5/
CATEGORIES:Skjutkväll
END:VEVENT
END:VCALENDAR