BEGIN:VCALENDAR
VERSION:2.0
PRODID:-//Kramfors Jaktskytteklubb - ECPv6.15.20//NONSGML v1.0//EN
CALSCALE:GREGORIAN
METHOD:PUBLISH
X-WR-CALNAME:Kramfors Jaktskytteklubb
X-ORIGINAL-URL:https://www.kramforsjaktskytteklubb.org
X-WR-CALDESC:Händelser för Kramfors Jaktskytteklubb
REFRESH-INTERVAL;VALUE=DURATION:PT1H
X-Robots-Tag:noindex
X-PUBLISHED-TTL:PT1H
BEGIN:VTIMEZONE
TZID:Europe/Stockholm
BEGIN:DAYLIGHT
TZOFFSETFROM:+0100
TZOFFSETTO:+0200
TZNAME:CEST
DTSTART:20220327T010000
END:DAYLIGHT
BEGIN:STANDARD
TZOFFSETFROM:+0200
TZOFFSETTO:+0100
TZNAME:CET
DTSTART:20221030T010000
END:STANDARD
BEGIN:DAYLIGHT
TZOFFSETFROM:+0100
TZOFFSETTO:+0200
TZNAME:CEST
DTSTART:20230326T010000
END:DAYLIGHT
BEGIN:STANDARD
TZOFFSETFROM:+0200
TZOFFSETTO:+0100
TZNAME:CET
DTSTART:20231029T010000
END:STANDARD
BEGIN:DAYLIGHT
TZOFFSETFROM:+0100
TZOFFSETTO:+0200
TZNAME:CEST
DTSTART:20240331T010000
END:DAYLIGHT
BEGIN:STANDARD
TZOFFSETFROM:+0200
TZOFFSETTO:+0100
TZNAME:CET
DTSTART:20241027T010000
END:STANDARD
END:VTIMEZONE
BEGIN:VEVENT
DTSTART;TZID=Europe/Stockholm:20230517T080000
DTEND;TZID=Europe/Stockholm:20230517T170000
DTSTAMP:20260423T092002
CREATED:20230224T140858Z
LAST-MODIFIED:20230224T140858Z
UID:10000117-1684310400-1684342800@www.kramforsjaktskytteklubb.org
SUMMARY:Arbetskväll
DESCRIPTION:
URL:https://www.kramforsjaktskytteklubb.org/event/arbetskvall/2023-05-17/
CATEGORIES:fixarkvall
END:VEVENT
END:VCALENDAR